BEGIN:VCALENDAR
VERSION:2.0
PRODID:-//wp-events-plugin.com//7.2.3.1//EN
TZID:Europe/Berlin
X-WR-TIMEZONE:Europe/Berlin
BEGIN:VEVENT
UID:0-594@willowsnest.org
DTSTART;TZID=Europe/Berlin:20191102T200000
DTEND;TZID=Europe/Berlin:20191102T230000
DTSTAMP:20191016T050923Z
URL:https://willowsnest.org/events/ghosts-in-the-uncanny-valley-iv/
SUMMARY:Ghosts in the Uncanny Valley IV
DESCRIPTION:On 2 November\, The Willows Nest and Andrew Raffo Dewar will pr
 esent “Ghosts in the Uncanny Valley IV" for soprano saxophone and quadra
 phonic live electronics using the Kyma sound design environment. This is a
  new work from a series of pieces that explores the interactive possibilit
 ies of live electronics and acoustic instruments\, and the unusual sound a
 reas to be discovered between and within them.\n\nAndrew Raffo Dewar (b.19
 75 Rosario\, Argentina) has been active since 1995 as a composer\, soprano
  saxophonist\, ethnomusicologist\, educator\, and arts organizer. His mu
 sic spans the spectrum of through-composed chamber music\, aleatoric compo
 sition\, electroacoustic music\, and open improvisation. He has collabora
 ted with dancers\, poets\, visual artists\, etc. to produce interdiscipli
 nary and intermedia performances and installations. As a composer and pe
 rformer\, he can be heard on nearly two dozen  recordings. Dewar studie
 d and/or performed with pathbreaking artists such as Anthony Braxton\, S
 teve Lacy\, Bill Dixon\, and Alvin Lucier\, and also spent nearly a decad
 e\, off and on\, studying the music of Java and West Sumatra\, Indonesia.
  He is based in the United States\, where he is an Associate Professor of
  Interdisciplinary Arts in New College and the School of Music at The Uni
 versity of Alabama.
ATTACH;FMTTYPE=image/jpeg:https://willowsnest.org/wp-content/uploads/2019/
 10/Dewar_Moundville_2010_by_Lydia_Atkins.jpeg
CATEGORIES:Music Concert,Quad Event
LOCATION:Willows Nest\, Boxhagener Strasse 61\, Berlin\, 10245\, Germany
X-APPLE-STRUCTURED-LOCATION;VALUE=URI;X-ADDRESS=Boxhagener Strasse 61\, Ber
 lin\, 10245\, Germany;X-APPLE-RADIUS=100;X-TITLE=Willows Nest:geo:0,0
END:VEVENT
BEGIN:VTIMEZONE
TZID:Europe/Berlin
X-LIC-LOCATION:Europe/Berlin
BEGIN:STANDARD
DTSTART:20191027T020000
TZOFFSETFROM:+0200
TZOFFSETTO:+0100
TZNAME:CET
END:STANDARD
END:VTIMEZONE
END:VCALENDAR