BEGIN:VCALENDAR
VERSION:2.0
PRODID:-//wp-events-plugin.com//7.2.3.1//EN
TZID:Europe/Berlin
X-WR-TIMEZONE:Europe/Berlin
BEGIN:VEVENT
UID:0-599@willowsnest.org
DTSTART;TZID=Europe/Berlin:20191123T200000
DTEND;TZID=Europe/Berlin:20191123T230000
DTSTAMP:20191114T141723Z
URL:https://willowsnest.org/events/11th-species-counterpoint/
SUMMARY:11th Species Counterpoint
DESCRIPTION:The Willows Nest presents 11th Species Counterpoint - a new tra
 nsmedia collaboration created as a part of our Autumn Artist-in-Residence 
 program. Using spatial audio diffusion and incorporating both pre-recorded
  materials (field recordings) and live performance\, 11th Species Counterp
 oint engages the subject of global climate collapse and the overwhelming g
 rief and trauma to find artistic responses\n\nNew Zealand flutist Tessa Br
 inckman has been described by critics as a “flutist of chameleon-like gi
 fts” and “virtuoso elegance” (Gramophone)\, and “highlight of Port
 land” (New Music Box)\, who “play(s) her instrument with great beauty 
 and eloquence” (Music Matters New Zealand). She enjoys a versatile caree
 r\, having worked in many classical music ensembles and concert series in 
 the United States\, South Africa\, France and New Zealand. She comes to th
 e Willows Nest in November of 2019 fresh from several recent artistic resi
 dencies\, in which she is developing new transmedia works.\n\nComposer-per
 former Renée T. Coulombe is also founder of The Willows Nest\, who perfor
 ms and presents her work regularly on stages and at Festivals around the g
 lobe.\n\nThe two began virtual collaboration and discussion for the forthc
 oming residency in early 2019\, and are developing a site-specific perform
 ance installation for The Willows Nest space.
ATTACH;FMTTYPE=image/jpeg:https://willowsnest.org/wp-content/uploads/2019/
 11/11species.jpg
CATEGORIES:Music Concert,Sound Art,Transmedia Event
LOCATION:Willows Nest\, Boxhagener Strasse 61\, Berlin\, 10245\, Germany
X-APPLE-STRUCTURED-LOCATION;VALUE=URI;X-ADDRESS=Boxhagener Strasse 61\, Ber
 lin\, 10245\, Germany;X-APPLE-RADIUS=100;X-TITLE=Willows Nest:geo:0,0
END:VEVENT
BEGIN:VTIMEZONE
TZID:Europe/Berlin
X-LIC-LOCATION:Europe/Berlin
BEGIN:STANDARD
DTSTART:20191027T020000
TZOFFSETFROM:+0200
TZOFFSETTO:+0100
TZNAME:CET
END:STANDARD
END:VTIMEZONE
END:VCALENDAR